BEGIN:VCALENDAR
VERSION:2.0
PRODID:-//Plone.org//NONSGML plone.app.event//EN
X-WR-TIMEZONE:Europe/Madrid
BEGIN:VEVENT
SUMMARY:Inauguració amb parlament i actuacions dels quadres de ball del C
 entro Cultural Andaluz
DTSTART;TZID=Europe/Madrid;VALUE=DATE-TIME:20230505T200000
DTEND;TZID=Europe/Madrid;VALUE=DATE-TIME:20230505T210000
DTSTAMP;VALUE=DATE-TIME:20260421T160447Z
UID:1832f976f851470697f6fd33f2676003@www.molletvalles.cat
CATEGORIES:Festes populars
CREATED;VALUE=DATE-TIME:20230428T090847Z
DESCRIPTION:LA CRUZ DE MAYO
LAST-MODIFIED;VALUE=DATE-TIME:20230502T113455Z
URL:https://www.molletvalles.cat/ca/actualitat/agenda/inauguracio-amb-parl
 ament-i-actuacions-dels-quadres-de-ball-del-centro-cultural-andaluz
END:VEVENT
BEGIN:VTIMEZONE
TZID:Europe/Madrid
X-LIC-LOCATION:Europe/Madrid
BEGIN:DAYLIGHT
DTSTART;VALUE=DATE-TIME:20230326T030000
TZNAME:CEST
TZOFFSETFROM:+0100
TZOFFSETTO:+0200
END:DAYLIGHT
END:VTIMEZONE
END:VCALENDAR
