BEGIN:VCALENDAR
VERSION:2.0
PRODID:-//Plone.org//NONSGML plone.app.event//EN
X-WR-TIMEZONE:Europe/Madrid
BEGIN:VEVENT
SUMMARY:Inauguració de l’exposicio “Traçant el Museu” de Lluís So
 ldevila al Racó de l’Artista
DTSTART;TZID=Europe/Madrid;VALUE=DATE-TIME:20250122T190000
DTEND;TZID=Europe/Madrid;VALUE=DATE-TIME:20250122T200000
DTSTAMP;VALUE=DATE-TIME:20260421T160544Z
UID:5d9a538593f244c28a982c920580700f@www.molletvalles.cat
CATEGORIES:Exposicions
CREATED;VALUE=DATE-TIME:20250117T095522Z
DESCRIPTION:FESTA MAJOR D'HIVERN
LAST-MODIFIED;VALUE=DATE-TIME:20250117T095541Z
URL:https://www.molletvalles.cat/ca/actualitat/agenda/inauguracio-de-l2019
 exposicio-201ctracant-el-museu201d-de-lluis-soldevila-al-raco-de-l2019arti
 sta
END:VEVENT
BEGIN:VTIMEZONE
TZID:Europe/Madrid
X-LIC-LOCATION:Europe/Madrid
BEGIN:STANDARD
DTSTART;VALUE=DATE-TIME:20241027T020000
TZNAME:CET
TZOFFSETFROM:+0200
TZOFFSETTO:+0100
END:STANDARD
END:VTIMEZONE
END:VCALENDAR
