BEGIN:VCALENDAR
VERSION:2.0
PRODID:-//Plone.org//NONSGML plone.app.event//EN
X-WR-TIMEZONE:Europe/Madrid
BEGIN:VEVENT
SUMMARY:Inauguració de la 40a Fira d'Artesans i de l'exposició "La sastr
 eria. Josep Tarrés. Art i ofici d'un sastre molletà"
DTSTART;TZID=Europe/Madrid;VALUE=DATE-TIME:20240913T190000
DTEND;TZID=Europe/Madrid;VALUE=DATE-TIME:20240913T200000
DTSTAMP;VALUE=DATE-TIME:20260419T170308Z
UID:7aaf27e8c923488a924f107112c9c98b@www.molletvalles.cat
CATEGORIES:Actes diversos,Exposicions
CREATED;VALUE=DATE-TIME:20240905T102713Z
LAST-MODIFIED;VALUE=DATE-TIME:20240905T102752Z
URL:https://www.molletvalles.cat/ca/actualitat/agenda/inauguracio-de-la-40
 a-fira-dartesans-i-de-lexposicio-la-sastreria-josep-tarres-art-i-ofici-dun
 -sastre-molleta
END:VEVENT
BEGIN:VTIMEZONE
TZID:Europe/Madrid
X-LIC-LOCATION:Europe/Madrid
BEGIN:DAYLIGHT
DTSTART;VALUE=DATE-TIME:20240331T030000
TZNAME:CEST
TZOFFSETFROM:+0100
TZOFFSETTO:+0200
END:DAYLIGHT
END:VTIMEZONE
END:VCALENDAR
