BEGIN:VCALENDAR
VERSION:2.0
PRODID:-//Plone.org//NONSGML plone.app.event//EN
X-WR-TIMEZONE:Europe/Madrid
BEGIN:VEVENT
SUMMARY:Inauguració de la 41a Fira d'Artesans i de l'exposició N'hem fet
  30. Esbart Dansaire de Mollet del Vallès
DTSTART;TZID=Europe/Madrid;VALUE=DATE-TIME:20250919T190000
DTEND;TZID=Europe/Madrid;VALUE=DATE-TIME:20250919T200000
DTSTAMP;VALUE=DATE-TIME:20260421T160543Z
UID:58bd533d9cea4cd08682d6227ebe8cc7@www.molletvalles.cat
CATEGORIES:Fires i mercats
CREATED;VALUE=DATE-TIME:20250915T060020Z
DESCRIPTION:FIRA D'ARTESANS 2025
LAST-MODIFIED;VALUE=DATE-TIME:20250915T090942Z
URL:https://www.molletvalles.cat/ca/actualitat/agenda/inauguracio-de-la-41
 a-fira-dartesans-i-de-lexposicio-nhem-fet-30-esbart-dansaire-de-mollet-del
 -valles
END:VEVENT
BEGIN:VTIMEZONE
TZID:Europe/Madrid
X-LIC-LOCATION:Europe/Madrid
BEGIN:DAYLIGHT
DTSTART;VALUE=DATE-TIME:20250330T030000
TZNAME:CEST
TZOFFSETFROM:+0100
TZOFFSETTO:+0200
END:DAYLIGHT
END:VTIMEZONE
END:VCALENDAR
