BEGIN:VCALENDAR
VERSION:2.0
PRODID:-//Plone.org//NONSGML plone.app.event//EN
X-WR-TIMEZONE:Europe/Madrid
BEGIN:VEVENT
SUMMARY:Inauguració exposició: Artistes  Anònims "Pasión por el arte"
DTSTART;TZID=Europe/Madrid;VALUE=DATE-TIME:20240208T180000
DTEND;TZID=Europe/Madrid;VALUE=DATE-TIME:20240208T190000
DTSTAMP;VALUE=DATE-TIME:20260421T135557Z
UID:5108ded61dde4deea17f3fa1eccc3ece@www.molletvalles.cat
CATEGORIES:Exposicions
CREATED;VALUE=DATE-TIME:20240125T131425Z
LAST-MODIFIED;VALUE=DATE-TIME:20240207T123741Z
URL:https://www.molletvalles.cat/ca/actualitat/agenda/inauguracio-exposici
 o-artistes-anonims
END:VEVENT
BEGIN:VTIMEZONE
TZID:Europe/Madrid
X-LIC-LOCATION:Europe/Madrid
BEGIN:STANDARD
DTSTART;VALUE=DATE-TIME:20231029T020000
TZNAME:CET
TZOFFSETFROM:+0200
TZOFFSETTO:+0100
END:STANDARD
END:VTIMEZONE
END:VCALENDAR
