BEGIN:VCALENDAR
VERSION:2.0
PRODID:-//Plone.org//NONSGML plone.app.event//EN
X-WR-TIMEZONE:Europe/Madrid
BEGIN:VEVENT
SUMMARY:Inauguració exposició: GALERIAS MARINETE. ABELLÓ 100 ANYS. Prim
 eres exposicions de Joan Abelló a Mollet 1942-1945
DTSTART;TZID=Europe/Madrid;VALUE=DATE-TIME:20230203T190000
DTEND;TZID=Europe/Madrid;VALUE=DATE-TIME:20230203T200000
DTSTAMP;VALUE=DATE-TIME:20260421T160731Z
UID:ba4fd7953bd541818332d1175abf3499@www.molletvalles.cat
CATEGORIES:Exposicions
CREATED;VALUE=DATE-TIME:20230127T085324Z
DESCRIPTION:ANY ABELLÓ
LAST-MODIFIED;VALUE=DATE-TIME:20230209T085427Z
URL:https://www.molletvalles.cat/ca/actualitat/agenda/inauguracio-exposici
 o-galerias-marinete-abello-100-anys-primeres-exposicions-de-joan-abello-a-
 mollet-1942-1945
END:VEVENT
BEGIN:VTIMEZONE
TZID:Europe/Madrid
X-LIC-LOCATION:Europe/Madrid
BEGIN:STANDARD
DTSTART;VALUE=DATE-TIME:20221030T020000
TZNAME:CET
TZOFFSETFROM:+0200
TZOFFSETTO:+0100
END:STANDARD
END:VTIMEZONE
END:VCALENDAR
