BEGIN:VCALENDAR
VERSION:2.0
PRODID:-//Plone.org//NONSGML plone.app.event//EN
X-WR-TIMEZONE:Europe/Madrid
BEGIN:VEVENT
SUMMARY:Instal·lació Cal Titella\, a càrrec de la Cia Galiot Teatre
DTSTART;VALUE=DATE:20250412
DTEND;VALUE=DATE:20250414
DTSTAMP;VALUE=DATE-TIME:20260419T164621Z
UID:3cdd9eb117d1485ca63f4dff342fb67f@www.molletvalles.cat
CATEGORIES:Actes diversos,Infantil,Turisme
CREATED;VALUE=DATE-TIME:20250402T095812Z
DESCRIPTION:MITMO 2025
LAST-MODIFIED;VALUE=DATE-TIME:20250403T112620Z
URL:https://www.molletvalles.cat/ca/actualitat/agenda/instal-lacio-cal-tit
 ella
END:VEVENT
END:VCALENDAR
