BEGIN:VCALENDAR
VERSION:2.0
PRODID:-//Plone.org//NONSGML plone.app.event//EN
X-WR-TIMEZONE:Europe/Madrid
BEGIN:VEVENT
SUMMARY:La Marató de TV3: Rastre solidari a l'Escola del Bosc
DTSTART;TZID=Europe/Madrid;VALUE=DATE-TIME:20241129T163000
DTEND;TZID=Europe/Madrid;VALUE=DATE-TIME:20241129T173000
DTSTAMP;VALUE=DATE-TIME:20260425T174737Z
UID:63866ffea0784a07b8de2d32364832f4@www.molletvalles.cat
CATEGORIES:Actes diversos,Fires i mercats
CREATED;VALUE=DATE-TIME:20241104T084110Z
LAST-MODIFIED;VALUE=DATE-TIME:20241104T085226Z
URL:https://www.molletvalles.cat/ca/actualitat/agenda/la-marato-de-tv3-ras
 tre-solidari-a-lescola-del-bosc
END:VEVENT
BEGIN:VTIMEZONE
TZID:Europe/Madrid
X-LIC-LOCATION:Europe/Madrid
BEGIN:STANDARD
DTSTART;VALUE=DATE-TIME:20241027T020000
TZNAME:CET
TZOFFSETFROM:+0200
TZOFFSETTO:+0100
END:STANDARD
END:VTIMEZONE
END:VCALENDAR
