BEGIN:VCALENDAR
VERSION:2.0
PRODID:-//Plone.org//NONSGML plone.app.event//EN
X-WR-TIMEZONE:Europe/Madrid
BEGIN:VEVENT
SUMMARY:La Marinette se’n va de festa. Cercavila gegantera amb la gegant
 a Marinette
DTSTART;TZID=Europe/Madrid;VALUE=DATE-TIME:20240119T183000
DTEND;TZID=Europe/Madrid;VALUE=DATE-TIME:20240119T193000
DTSTAMP;VALUE=DATE-TIME:20260419T204549Z
UID:e1f0d44e8bca4507b7bb4ea215124e4a@www.molletvalles.cat
CATEGORIES:Festes populars
CREATED;VALUE=DATE-TIME:20240111T105838Z
DESCRIPTION:FESTA MAJOR D'HIVERN
LAST-MODIFIED;VALUE=DATE-TIME:20240111T105852Z
LOCATION:Plaça de Prat de la Riba
URL:https://www.molletvalles.cat/ca/actualitat/agenda/la-marinette-se2019n
 -va-de-festa-cercavila-gegantera-amb-la-geganta-marinette
END:VEVENT
BEGIN:VTIMEZONE
TZID:Europe/Madrid
X-LIC-LOCATION:Europe/Madrid
BEGIN:STANDARD
DTSTART;VALUE=DATE-TIME:20231029T020000
TZNAME:CET
TZOFFSETFROM:+0200
TZOFFSETTO:+0100
END:STANDARD
END:VTIMEZONE
END:VCALENDAR
