BEGIN:VCALENDAR
VERSION:2.0
PRODID:-//Plone.org//NONSGML plone.app.event//EN
X-WR-TIMEZONE:Europe/Madrid
BEGIN:VEVENT
SUMMARY:La Nit Destil·lada: Concert amb The Nonainos
DTSTART;TZID=Europe/Madrid;VALUE=DATE-TIME:20250818T220000
DTEND;TZID=Europe/Madrid;VALUE=DATE-TIME:20250818T230000
DTSTAMP;VALUE=DATE-TIME:20260421T135746Z
UID:f014a242750a41afa166c54fa2e8d02d@www.molletvalles.cat
CATEGORIES:Música,Turisme
CREATED;VALUE=DATE-TIME:20250801T070411Z
DESCRIPTION:FESTA MAJOR 2025
LAST-MODIFIED;VALUE=DATE-TIME:20250801T072802Z
LOCATION:Parc de Les Pruneres
URL:https://www.molletvalles.cat/ca/actualitat/agenda/la-nit-destil-lada-c
 oncert-amb-the-nonainos
END:VEVENT
BEGIN:VTIMEZONE
TZID:Europe/Madrid
X-LIC-LOCATION:Europe/Madrid
BEGIN:DAYLIGHT
DTSTART;VALUE=DATE-TIME:20250330T030000
TZNAME:CEST
TZOFFSETFROM:+0100
TZOFFSETTO:+0200
END:DAYLIGHT
END:VTIMEZONE
END:VCALENDAR
