BEGIN:VCALENDAR
VERSION:2.0
PRODID:-//Plone.org//NONSGML plone.app.event//EN
X-WR-TIMEZONE:Europe/Madrid
BEGIN:VEVENT
SUMMARY:L'APARADOR DEL MUSEU: "SEGONA INTERVENCIO. IGNASI PRAT"
DTSTART;VALUE=DATE:20251113
DTEND;VALUE=DATE:20260316
DTSTAMP;VALUE=DATE-TIME:20260421T140312Z
UID:0c05721917d545ef8b512bfa96d9d80e@www.molletvalles.cat
CATEGORIES:Exposicions
CREATED;VALUE=DATE-TIME:20251016T073406Z
LAST-MODIFIED;VALUE=DATE-TIME:20251112T113512Z
URL:https://www.molletvalles.cat/ca/actualitat/agenda/laparador-del-museu-
 segona-intervencio-ignasi-prat
END:VEVENT
END:VCALENDAR
