BEGIN:VCALENDAR
VERSION:2.0
PRODID:-//Plone.org//NONSGML plone.app.event//EN
X-WR-TIMEZONE:Europe/Madrid
BEGIN:VEVENT
SUMMARY:L'ARLEQUÍ: Actuació de  JESSICA ARPIN (Circ\, Comèdia\, Poesia)
DTSTART;TZID=Europe/Madrid;VALUE=DATE-TIME:20240601T200000
DTEND;TZID=Europe/Madrid;VALUE=DATE-TIME:20240601T210000
DTSTAMP;VALUE=DATE-TIME:20260421T140209Z
UID:f66fdd22d7274057a89d00a03bd2365d@www.molletvalles.cat
CATEGORIES:Arts escèniques
CREATED;VALUE=DATE-TIME:20240521T123329Z
DESCRIPTION:VI FESTIVAL ARTÍSTIC INTERNACIONAL 2024
LAST-MODIFIED;VALUE=DATE-TIME:20240527T071635Z
LOCATION:Parc de Les Pruneres
URL:https://www.molletvalles.cat/ca/actualitat/agenda/larlequi-actuacio-de
 -jessica-arpin-circ-comedia-poesia
END:VEVENT
BEGIN:VTIMEZONE
TZID:Europe/Madrid
X-LIC-LOCATION:Europe/Madrid
BEGIN:DAYLIGHT
DTSTART;VALUE=DATE-TIME:20240331T030000
TZNAME:CEST
TZOFFSETFROM:+0100
TZOFFSETTO:+0200
END:DAYLIGHT
END:VTIMEZONE
END:VCALENDAR
