BEGIN:VCALENDAR
VERSION:2.0
PRODID:-//Plone.org//NONSGML plone.app.event//EN
X-WR-TIMEZONE:Europe/Madrid
BEGIN:VEVENT
SUMMARY:Lectura del manifest institucional amb motiu del 25N i activitats
DTSTART;TZID=Europe/Madrid;VALUE=DATE-TIME:20251125T120000
DTEND;TZID=Europe/Madrid;VALUE=DATE-TIME:20251125T130000
DTSTAMP;VALUE=DATE-TIME:20260421T140532Z
UID:6003b6fdf44041e2b82daa600c993262@www.molletvalles.cat
CATEGORIES:Actes diversos
CREATED;VALUE=DATE-TIME:20251103T130638Z
LAST-MODIFIED;VALUE=DATE-TIME:20251104T071625Z
LOCATION:Plaça Major\, 1 (davant Casa de la Vila)
URL:https://www.molletvalles.cat/ca/actualitat/agenda/lectura-de-manifest-
 institucional-amb-motiu-del-25n-i-actuacio
END:VEVENT
BEGIN:VTIMEZONE
TZID:Europe/Madrid
X-LIC-LOCATION:Europe/Madrid
BEGIN:STANDARD
DTSTART;VALUE=DATE-TIME:20251026T020000
TZNAME:CET
TZOFFSETFROM:+0200
TZOFFSETTO:+0100
END:STANDARD
END:VTIMEZONE
END:VCALENDAR
