BEGIN:VCALENDAR
VERSION:2.0
PRODID:-//Plone.org//NONSGML plone.app.event//EN
X-WR-TIMEZONE:Europe/Madrid
BEGIN:VEVENT
SUMMARY:Lectura del manifest\, a càrrec de l'Associació Suficientment am
 b motiu del Dia Mundial de la Salut Mental
DTSTART;TZID=Europe/Madrid;VALUE=DATE-TIME:20241010T120000
DTEND;TZID=Europe/Madrid;VALUE=DATE-TIME:20241010T130000
DTSTAMP;VALUE=DATE-TIME:20260419T221639Z
UID:269aa5dac0954f5f95b726f631b90591@www.molletvalles.cat
CATEGORIES:Acte institucional
CREATED;VALUE=DATE-TIME:20240926T110828Z
LAST-MODIFIED;VALUE=DATE-TIME:20240926T115450Z
LOCATION:Plaça Major (davant Ajuntament)
URL:https://www.molletvalles.cat/ca/actualitat/agenda/lectura-del-manifest
 -a-carrec-de-lassociacio-suficientment-amb-motiu-del-dia-mundial-de-la-sal
 ut-mental
END:VEVENT
BEGIN:VTIMEZONE
TZID:Europe/Madrid
X-LIC-LOCATION:Europe/Madrid
BEGIN:DAYLIGHT
DTSTART;VALUE=DATE-TIME:20240331T030000
TZNAME:CEST
TZOFFSETFROM:+0100
TZOFFSETTO:+0200
END:DAYLIGHT
END:VTIMEZONE
END:VCALENDAR
