BEGIN:VCALENDAR
VERSION:2.0
PRODID:-//Plone.org//NONSGML plone.app.event//EN
X-WR-TIMEZONE:Europe/Madrid
BEGIN:VEVENT
SUMMARY:Lectura del manifest del Dia Internacional de les Persones amb Dis
 capacitat i reconeixement públic a Montse Tarrés
DTSTART;TZID=Europe/Madrid;VALUE=DATE-TIME:20251203T110000
DTEND;TZID=Europe/Madrid;VALUE=DATE-TIME:20251203T120000
DTSTAMP;VALUE=DATE-TIME:20260419T223117Z
UID:6c5587ee19cc44b092db63e60b8b526b@www.molletvalles.cat
CATEGORIES:Actes diversos
CREATED;VALUE=DATE-TIME:20251201T084541Z
LAST-MODIFIED;VALUE=DATE-TIME:20251201T085201Z
LOCATION:Centre Ocupacional del Bosc (c. Lluís Millet\, 7)
URL:https://www.molletvalles.cat/ca/actualitat/agenda/lectura-del-manifest
 -del-dia-internacional-de-les-persones-amb-discapacitat-i-reconeixement-pu
 blic-a-montse-tarres
END:VEVENT
BEGIN:VTIMEZONE
TZID:Europe/Madrid
X-LIC-LOCATION:Europe/Madrid
BEGIN:STANDARD
DTSTART;VALUE=DATE-TIME:20251026T020000
TZNAME:CET
TZOFFSETFROM:+0200
TZOFFSETTO:+0100
END:STANDARD
END:VTIMEZONE
END:VCALENDAR
