BEGIN:VCALENDAR
VERSION:2.0
PRODID:-//Plone.org//NONSGML plone.app.event//EN
X-WR-TIMEZONE:Europe/Madrid
BEGIN:VEVENT
SUMMARY:Les Jornades del síndic: Els Drets Humans en crisi
DTSTART;TZID=Europe/Madrid;VALUE=DATE-TIME:20251202T183000
DTEND;TZID=Europe/Madrid;VALUE=DATE-TIME:20251202T193000
DTSTAMP;VALUE=DATE-TIME:20260421T140245Z
UID:a70402209f7e4ce09ad2693ab6672749@www.molletvalles.cat
CATEGORIES:Xerrades
CREATED;VALUE=DATE-TIME:20251120T110400Z
LAST-MODIFIED;VALUE=DATE-TIME:20251120T110525Z
URL:https://www.molletvalles.cat/ca/actualitat/agenda/les-jornades-del-sin
 dic-els-drets-humans-en-crisi
END:VEVENT
BEGIN:VTIMEZONE
TZID:Europe/Madrid
X-LIC-LOCATION:Europe/Madrid
BEGIN:STANDARD
DTSTART;VALUE=DATE-TIME:20251026T020000
TZNAME:CET
TZOFFSETFROM:+0200
TZOFFSETTO:+0100
END:STANDARD
END:VTIMEZONE
END:VCALENDAR
