BEGIN:VCALENDAR
VERSION:2.0
PRODID:-//Plone.org//NONSGML plone.app.event//EN
X-WR-TIMEZONE:Europe/Madrid
BEGIN:VEVENT
SUMMARY:L'hora del Conte: "Cuinetes i pastetes". A càrrec de Pati de Cont
 es
DTSTART;TZID=Europe/Madrid;VALUE=DATE-TIME:20251024T173000
DTEND;TZID=Europe/Madrid;VALUE=DATE-TIME:20251024T183000
DTSTAMP;VALUE=DATE-TIME:20260421T173831Z
UID:61a41658a78240dfafcb3ac9b88ee757@www.molletvalles.cat
CATEGORIES:Infantil
CREATED;VALUE=DATE-TIME:20250929T112122Z
LAST-MODIFIED;VALUE=DATE-TIME:20251006T101916Z
URL:https://www.molletvalles.cat/ca/actualitat/agenda/lhora-del-conte-cuin
 etes-i-pastetes-a-carrec-de-pati-de-contes
END:VEVENT
BEGIN:VTIMEZONE
TZID:Europe/Madrid
X-LIC-LOCATION:Europe/Madrid
BEGIN:DAYLIGHT
DTSTART;VALUE=DATE-TIME:20250330T030000
TZNAME:CEST
TZOFFSETFROM:+0100
TZOFFSETTO:+0200
END:DAYLIGHT
END:VTIMEZONE
END:VCALENDAR
