BEGIN:VCALENDAR
VERSION:2.0
PRODID:-//Plone.org//NONSGML plone.app.event//EN
X-WR-TIMEZONE:Europe/Madrid
BEGIN:VEVENT
SUMMARY:L'hora del Conte Menuda: "Amina Tolé!" . Contes i cançons del Se
 negal amb la Capsa de Llumins
DTSTART;TZID=Europe/Madrid;VALUE=DATE-TIME:20260130T173000
DTEND;TZID=Europe/Madrid;VALUE=DATE-TIME:20260130T183000
DTSTAMP;VALUE=DATE-TIME:20260419T144657Z
UID:23d7a2cd692a474c94681fb584c7b65f@www.molletvalles.cat
CATEGORIES:Infantil
CREATED;VALUE=DATE-TIME:20260121T104608Z
LAST-MODIFIED;VALUE=DATE-TIME:20260121T124021Z
URL:https://www.molletvalles.cat/ca/actualitat/agenda/lhora-del-conte-menu
 da-amina-tole-contes-i-cancons-del-senegal-amb-la-capsa-de-llumins
END:VEVENT
BEGIN:VTIMEZONE
TZID:Europe/Madrid
X-LIC-LOCATION:Europe/Madrid
BEGIN:STANDARD
DTSTART;VALUE=DATE-TIME:20251026T020000
TZNAME:CET
TZOFFSETFROM:+0200
TZOFFSETTO:+0100
END:STANDARD
END:VTIMEZONE
END:VCALENDAR
