BEGIN:VCALENDAR
VERSION:2.0
PRODID:-//Plone.org//NONSGML plone.app.event//EN
X-WR-TIMEZONE:Europe/Madrid
BEGIN:VEVENT
SUMMARY:L'hora del Conte Menuda: "Contes sobre la pell" amb Elena Andrés
DTSTART;TZID=Europe/Madrid;VALUE=DATE-TIME:20251121T173000
DTEND;TZID=Europe/Madrid;VALUE=DATE-TIME:20251121T183000
DTSTAMP;VALUE=DATE-TIME:20260421T140258Z
UID:67bec9318a754bb79b289edb5381c8cb@www.molletvalles.cat
CATEGORIES:Infantil
CREATED;VALUE=DATE-TIME:20251107T112641Z
LAST-MODIFIED;VALUE=DATE-TIME:20251110T073236Z
URL:https://www.molletvalles.cat/ca/actualitat/agenda/lhora-del-conte-menu
 da-contes-sobre-la-pell-amb-elena-andres
END:VEVENT
BEGIN:VTIMEZONE
TZID:Europe/Madrid
X-LIC-LOCATION:Europe/Madrid
BEGIN:STANDARD
DTSTART;VALUE=DATE-TIME:20251026T020000
TZNAME:CET
TZOFFSETFROM:+0200
TZOFFSETTO:+0100
END:STANDARD
END:VTIMEZONE
END:VCALENDAR
