BEGIN:VCALENDAR
VERSION:2.0
PRODID:-//Plone.org//NONSGML plone.app.event//EN
X-WR-TIMEZONE:Europe/Madrid
BEGIN:VEVENT
SUMMARY:L'Hora del Conte Menuda: "El camí de la Molly"\, amb Sara Genovar
 t
DTSTART;TZID=Europe/Madrid;VALUE=DATE-TIME:20240126T173000
DTEND;TZID=Europe/Madrid;VALUE=DATE-TIME:20240126T183000
DTSTAMP;VALUE=DATE-TIME:20260421T173855Z
UID:ac4f88d60db84df18860d55e416a6fd3@www.molletvalles.cat
CATEGORIES:Infantil
CREATED;VALUE=DATE-TIME:20240118T111140Z
DESCRIPTION:FESTA MAJOR D'HIVERN
LAST-MODIFIED;VALUE=DATE-TIME:20240123T100508Z
URL:https://www.molletvalles.cat/ca/actualitat/agenda/lhora-del-conte-menu
 da-el-cami-de-la-molly-amb-sara-genovart
END:VEVENT
BEGIN:VTIMEZONE
TZID:Europe/Madrid
X-LIC-LOCATION:Europe/Madrid
BEGIN:STANDARD
DTSTART;VALUE=DATE-TIME:20231029T020000
TZNAME:CET
TZOFFSETFROM:+0200
TZOFFSETTO:+0100
END:STANDARD
END:VTIMEZONE
END:VCALENDAR
