BEGIN:VCALENDAR
VERSION:2.0
PRODID:-//Plone.org//NONSGML plone.app.event//EN
X-WR-TIMEZONE:Europe/Madrid
BEGIN:VEVENT
SUMMARY:Lliurament de premis del  XXXI Certamen Literari de Sant Jordi
DTSTART;TZID=Europe/Madrid;VALUE=DATE-TIME:20230513T120000
DTEND;TZID=Europe/Madrid;VALUE=DATE-TIME:20230513T130000
DTSTAMP;VALUE=DATE-TIME:20260425T122030Z
UID:8de45fd345fa4a45abfa9f01d23c4f4a@www.molletvalles.cat
CATEGORIES:Actes diversos,Concursos i premis
CREATED;VALUE=DATE-TIME:20230404T080125Z
DESCRIPTION:SANT JORDI 2023
LAST-MODIFIED;VALUE=DATE-TIME:20230417T071139Z
URL:https://www.molletvalles.cat/ca/actualitat/agenda/lliurament-de-premis
 -del-xxxi-certamen-literari-de-prosa-i-poesia-sant-jordi-2023
END:VEVENT
BEGIN:VTIMEZONE
TZID:Europe/Madrid
X-LIC-LOCATION:Europe/Madrid
BEGIN:DAYLIGHT
DTSTART;VALUE=DATE-TIME:20230326T030000
TZNAME:CEST
TZOFFSETFROM:+0100
TZOFFSETTO:+0200
END:DAYLIGHT
END:VTIMEZONE
END:VCALENDAR
