BEGIN:VCALENDAR
VERSION:2.0
PRODID:-//Plone.org//NONSGML plone.app.event//EN
X-WR-TIMEZONE:Europe/Madrid
BEGIN:VEVENT
SUMMARY:Lliurament de premis del XXXIII Certamen Literari de Sant Jordi
DTSTART;TZID=Europe/Madrid;VALUE=DATE-TIME:20250607T120000
DTEND;TZID=Europe/Madrid;VALUE=DATE-TIME:20250607T152500
DTSTAMP;VALUE=DATE-TIME:20260419T234438Z
UID:182163c9cae449a2a51b401514f5aa4d@www.molletvalles.cat
CATEGORIES:Actes diversos
CREATED;VALUE=DATE-TIME:20250408T093632Z
LAST-MODIFIED;VALUE=DATE-TIME:20250529T084732Z
URL:https://www.molletvalles.cat/ca/actualitat/agenda/lliurament-de-premis
 -del-xxxiii-certamen-literari-de-sant-jordi
END:VEVENT
BEGIN:VTIMEZONE
TZID:Europe/Madrid
X-LIC-LOCATION:Europe/Madrid
BEGIN:DAYLIGHT
DTSTART;VALUE=DATE-TIME:20250330T030000
TZNAME:CEST
TZOFFSETFROM:+0100
TZOFFSETTO:+0200
END:DAYLIGHT
END:VTIMEZONE
END:VCALENDAR
