BEGIN:VCALENDAR
VERSION:2.0
PRODID:-//Plone.org//NONSGML plone.app.event//EN
X-WR-TIMEZONE:Europe/Madrid
BEGIN:VEVENT
SUMMARY:Lliurament del XXVI Premi Juvenil Vicenç Plantada i de la X Beca 
 de Recerca Vicenç Plantada
DTSTART;TZID=Europe/Madrid;VALUE=DATE-TIME:20251104T180000
DTEND;TZID=Europe/Madrid;VALUE=DATE-TIME:20251104T190000
DTSTAMP;VALUE=DATE-TIME:20260421T160545Z
UID:6aec0ce7cef54f1e8a0b787f2300a710@www.molletvalles.cat
CATEGORIES:Actes diversos,Xerrades
CREATED;VALUE=DATE-TIME:20251029T082728Z
LAST-MODIFIED;VALUE=DATE-TIME:20251029T082845Z
LOCATION:Sala de plens de la Casa de la Vila (pl. Major\, 1 )
URL:https://www.molletvalles.cat/ca/actualitat/agenda/lliurament-del-xxvi-
 premi-juvenil-vicenc-plantada-i-de-la-x-beca-de-recerca-vicenc-plantada
END:VEVENT
BEGIN:VTIMEZONE
TZID:Europe/Madrid
X-LIC-LOCATION:Europe/Madrid
BEGIN:STANDARD
DTSTART;VALUE=DATE-TIME:20251026T020000
TZNAME:CET
TZOFFSETFROM:+0200
TZOFFSETTO:+0100
END:STANDARD
END:VTIMEZONE
END:VCALENDAR
