BEGIN:VCALENDAR
VERSION:2.0
PRODID:-//Plone.org//NONSGML plone.app.event//EN
X-WR-TIMEZONE:Europe/Madrid
BEGIN:VEVENT
SUMMARY:Les escoles ballen\, amb motiu del Dia Internacional de la Dansa
DTSTART;TZID=Europe/Madrid;VALUE=DATE-TIME:20260429T103000
DTEND;TZID=Europe/Madrid;VALUE=DATE-TIME:20260429T113000
DTSTAMP;VALUE=DATE-TIME:20260422T225957Z
UID:d43093edb7e14a38a658aa46f4397b89@www.molletvalles.cat
CATEGORIES:Actes diversos
CREATED;VALUE=DATE-TIME:20260422T094029Z
LAST-MODIFIED;VALUE=DATE-TIME:20260422T113617Z
LOCATION:Parc de Can Mulà
URL:https://www.molletvalles.cat/ca/actualitat/agenda/ls-escoles-ballen-am
 b-motiu-del-dia-internacional-de-la-dansa
END:VEVENT
BEGIN:VTIMEZONE
TZID:Europe/Madrid
X-LIC-LOCATION:Europe/Madrid
BEGIN:DAYLIGHT
DTSTART;VALUE=DATE-TIME:20260329T030000
TZNAME:CEST
TZOFFSETFROM:+0100
TZOFFSETTO:+0200
END:DAYLIGHT
END:VTIMEZONE
END:VCALENDAR
