BEGIN:VCALENDAR
VERSION:2.0
PRODID:-//Plone.org//NONSGML plone.app.event//EN
X-WR-TIMEZONE:Europe/Madrid
BEGIN:VEVENT
SUMMARY:Mercadillo de Segona Mà
DTSTART;TZID=Europe/Madrid;VALUE=DATE-TIME:20241102T090000
DTEND;TZID=Europe/Madrid;VALUE=DATE-TIME:20241102T140000
DTSTAMP;VALUE=DATE-TIME:20260425T125201Z
UID:31b96799e97c4324978ef899e4e680cb@www.molletvalles.cat
CATEGORIES:Fires i mercats
CREATED;VALUE=DATE-TIME:20240902T115910Z
LAST-MODIFIED;VALUE=DATE-TIME:20240903T093149Z
LOCATION:Rambla de la Unió
URL:https://www.molletvalles.cat/ca/actualitat/agenda/mercadillo-de-segona
 -ma-12
END:VEVENT
BEGIN:VTIMEZONE
TZID:Europe/Madrid
X-LIC-LOCATION:Europe/Madrid
BEGIN:STANDARD
DTSTART;VALUE=DATE-TIME:20241027T020000
TZNAME:CET
TZOFFSETFROM:+0200
TZOFFSETTO:+0100
END:STANDARD
END:VTIMEZONE
END:VCALENDAR
