BEGIN:VCALENDAR
VERSION:2.0
PRODID:-//Plone.org//NONSGML plone.app.event//EN
X-WR-TIMEZONE:Europe/Madrid
BEGIN:VEVENT
SUMMARY:Més digitals: Taller "La teva salut en el món digital"
DTSTART;TZID=Europe/Madrid;VALUE=DATE-TIME:20260311T153000
DTEND;TZID=Europe/Madrid;VALUE=DATE-TIME:20260506T173000
DTSTAMP;VALUE=DATE-TIME:20260424T192438Z
UID:ffb20a26a25245e3b5a55b28ac657c02@www.molletvalles.cat
CATEGORIES:Cursos i tallers
CREATED;VALUE=DATE-TIME:20260210T102122Z
LAST-MODIFIED;VALUE=DATE-TIME:20260303T095343Z
URL:https://www.molletvalles.cat/ca/actualitat/agenda/mes-digitals-taller-
 la-teva-salut-en-el-mon-digital
END:VEVENT
BEGIN:VTIMEZONE
TZID:Europe/Madrid
X-LIC-LOCATION:Europe/Madrid
BEGIN:STANDARD
DTSTART;VALUE=DATE-TIME:20251026T020000
TZNAME:CET
TZOFFSETFROM:+0200
TZOFFSETTO:+0100
END:STANDARD
BEGIN:DAYLIGHT
DTSTART;VALUE=DATE-TIME:20260329T030000
TZNAME:CEST
TZOFFSETFROM:+0100
TZOFFSETTO:+0200
END:DAYLIGHT
END:VTIMEZONE
END:VCALENDAR
