BEGIN:VCALENDAR
VERSION:2.0
PRODID:-//Plone.org//NONSGML plone.app.event//EN
X-WR-TIMEZONE:Europe/Madrid
BEGIN:VEVENT
SUMMARY:Missa del Vot de Poble amb presència dels Gegants de la ciutat
DTSTART;TZID=Europe/Madrid;VALUE=DATE-TIME:20230820T120000
DTEND;TZID=Europe/Madrid;VALUE=DATE-TIME:20230820T130000
DTSTAMP;VALUE=DATE-TIME:20260425T121717Z
UID:4f590deefd0347059301e0257fd95a7b@www.molletvalles.cat
CATEGORIES:Actes diversos
CREATED;VALUE=DATE-TIME:20230728T060442Z
DESCRIPTION:FESTA MAJOR 2023
LAST-MODIFIED;VALUE=DATE-TIME:20230802T105812Z
URL:https://www.molletvalles.cat/ca/actualitat/agenda/missa-del-vot-de-pob
 le-amb-presencia-dels-gegants-de-la-ciutat
END:VEVENT
BEGIN:VTIMEZONE
TZID:Europe/Madrid
X-LIC-LOCATION:Europe/Madrid
BEGIN:DAYLIGHT
DTSTART;VALUE=DATE-TIME:20230326T030000
TZNAME:CEST
TZOFFSETFROM:+0100
TZOFFSETTO:+0200
END:DAYLIGHT
END:VTIMEZONE
END:VCALENDAR
