BEGIN:VCALENDAR
VERSION:2.0
PRODID:-//Plone.org//NONSGML plone.app.event//EN
X-WR-TIMEZONE:Europe/Madrid
BEGIN:VEVENT
SUMMARY:Missa Rociera del Centro Cultural Andaluz\, en motiu de la celebra
 ció del Dia d'Andalusia
DTSTART;TZID=Europe/Madrid;VALUE=DATE-TIME:20250309T103000
DTEND;TZID=Europe/Madrid;VALUE=DATE-TIME:20250309T113000
DTSTAMP;VALUE=DATE-TIME:20260421T160646Z
UID:466ad948f2a24f2a9e7c351ddb54dcf7@www.molletvalles.cat
CATEGORIES:Actes diversos
CREATED;VALUE=DATE-TIME:20250220T114630Z
LAST-MODIFIED;VALUE=DATE-TIME:20250306T080115Z
URL:https://www.molletvalles.cat/ca/actualitat/agenda/missa-rociera-del-ce
 ntro-cultural-andaluz-en-motiu-de-la-celebracio-del-dia-dandalusia
END:VEVENT
BEGIN:VTIMEZONE
TZID:Europe/Madrid
X-LIC-LOCATION:Europe/Madrid
BEGIN:STANDARD
DTSTART;VALUE=DATE-TIME:20241027T020000
TZNAME:CET
TZOFFSETFROM:+0200
TZOFFSETTO:+0100
END:STANDARD
END:VTIMEZONE
END:VCALENDAR
