BEGIN:VCALENDAR
VERSION:2.0
PRODID:-//Plone.org//NONSGML plone.app.event//EN
X-WR-TIMEZONE:Europe/Madrid
BEGIN:VEVENT
SUMMARY:MOLLET EN RUTA: Ruta circular a Gallecs
DTSTART;TZID=Europe/Madrid;VALUE=DATE-TIME:20260326T090000
DTEND;TZID=Europe/Madrid;VALUE=DATE-TIME:20260326T130000
DTSTAMP;VALUE=DATE-TIME:20260421T173653Z
UID:3457f569d69c4272a6701969c1bb3903@www.molletvalles.cat
CATEGORIES:Esports
CREATED;VALUE=DATE-TIME:20251021T115001Z
LAST-MODIFIED;VALUE=DATE-TIME:20251022T113352Z
LOCATION:Punt de trobada: Davant de la Pista Municipal d'Atletisme La Pedr
 a Salvadora (enfront de l'Institut Gallecs)
URL:https://www.molletvalles.cat/ca/actualitat/agenda/mollet-en-ruta-ruta-
 circular-a-gallecs-1
END:VEVENT
BEGIN:VTIMEZONE
TZID:Europe/Madrid
X-LIC-LOCATION:Europe/Madrid
BEGIN:STANDARD
DTSTART;VALUE=DATE-TIME:20251026T020000
TZNAME:CET
TZOFFSETFROM:+0200
TZOFFSETTO:+0100
END:STANDARD
END:VTIMEZONE
END:VCALENDAR
