BEGIN:VCALENDAR
VERSION:2.0
PRODID:-//Plone.org//NONSGML plone.app.event//EN
X-WR-TIMEZONE:Europe/Madrid
BEGIN:VEVENT
SUMMARY:Mostra de Dansa amb l'alumnat de l'Escola Municipal de Música i D
 ansa
DTSTART;TZID=Europe/Madrid;VALUE=DATE-TIME:20230611T183000
DTEND;TZID=Europe/Madrid;VALUE=DATE-TIME:20230611T193000
DTSTAMP;VALUE=DATE-TIME:20260419T220833Z
UID:2b3e89eeb7ef41e58469b3b858ce2aa1@www.molletvalles.cat
CATEGORIES:Arts escèniques
CREATED;VALUE=DATE-TIME:20230608T073749Z
LAST-MODIFIED;VALUE=DATE-TIME:20230608T073818Z
URL:https://www.molletvalles.cat/ca/actualitat/agenda/mostra-de-dansa-amb-
 lalumnat-de-lescola-municipal-de-musica-i-dansa
END:VEVENT
BEGIN:VTIMEZONE
TZID:Europe/Madrid
X-LIC-LOCATION:Europe/Madrid
BEGIN:DAYLIGHT
DTSTART;VALUE=DATE-TIME:20230326T030000
TZNAME:CEST
TZOFFSETFROM:+0100
TZOFFSETTO:+0200
END:DAYLIGHT
END:VTIMEZONE
END:VCALENDAR
