BEGIN:VCALENDAR
VERSION:2.0
PRODID:-//Plone.org//NONSGML plone.app.event//EN
X-WR-TIMEZONE:Europe/Madrid
BEGIN:VEVENT
SUMMARY:MOSTRA DE LES ESCOLES DE DANSA DE LA CIUTAT
DTSTART;TZID=Europe/Madrid;VALUE=DATE-TIME:20260429T180000
DTEND;TZID=Europe/Madrid;VALUE=DATE-TIME:20260429T190000
DTSTAMP;VALUE=DATE-TIME:20260422T225611Z
UID:910d8ea7ad34421fb845fef682e1d62c@www.molletvalles.cat
CATEGORIES:Arts escèniques
CREATED;VALUE=DATE-TIME:20260422T103145Z
LAST-MODIFIED;VALUE=DATE-TIME:20260422T114011Z
LOCATION:Parc de Les Pruneres
URL:https://www.molletvalles.cat/ca/actualitat/agenda/mostra-de-les-escole
 s-de-dansa-de-la-ciutat-2
END:VEVENT
BEGIN:VTIMEZONE
TZID:Europe/Madrid
X-LIC-LOCATION:Europe/Madrid
BEGIN:DAYLIGHT
DTSTART;VALUE=DATE-TIME:20260329T030000
TZNAME:CEST
TZOFFSETFROM:+0100
TZOFFSETTO:+0200
END:DAYLIGHT
END:VTIMEZONE
END:VCALENDAR
