BEGIN:VCALENDAR
VERSION:2.0
PRODID:-//Plone.org//NONSGML plone.app.event//EN
X-WR-TIMEZONE:Europe/Madrid
BEGIN:VEVENT
SUMMARY:Mostra del taller "Què la vida t'agafi cantant! i a continuació 
 Ball de germanor i berenar
DTSTART;TZID=Europe/Madrid;VALUE=DATE-TIME:20250516T170000
DTEND;TZID=Europe/Madrid;VALUE=DATE-TIME:20250516T180000
DTSTAMP;VALUE=DATE-TIME:20260419T235258Z
UID:d3d9b2cf8c7b4a55a5b39fabeed0e275@www.molletvalles.cat
CATEGORIES:Actes diversos
CREATED;VALUE=DATE-TIME:20250505T113534Z
DESCRIPTION:PER MOLTS ANYS!
LAST-MODIFIED;VALUE=DATE-TIME:20250506T070557Z
URL:https://www.molletvalles.cat/ca/actualitat/agenda/mostra-del-taller-qu
 e-la-vida-tagafi-cantant-i-a-continuacio-ball-de-germanor-i-berenar-1
END:VEVENT
BEGIN:VTIMEZONE
TZID:Europe/Madrid
X-LIC-LOCATION:Europe/Madrid
BEGIN:DAYLIGHT
DTSTART;VALUE=DATE-TIME:20250330T030000
TZNAME:CEST
TZOFFSETFROM:+0100
TZOFFSETTO:+0200
END:DAYLIGHT
END:VTIMEZONE
END:VCALENDAR
