BEGIN:VCALENDAR
VERSION:2.0
PRODID:-//Plone.org//NONSGML plone.app.event//EN
X-WR-TIMEZONE:Europe/Madrid
BEGIN:VEVENT
SUMMARY:NADAL D'ART
DTSTART;VALUE=DATE:20251222
DTEND;VALUE=DATE:20251224
DTSTAMP;VALUE=DATE-TIME:20260423T135118Z
UID:61077e16eb824063b0b332f1f356f385@www.molletvalles.cat
CATEGORIES:Infantil
CREATED;VALUE=DATE-TIME:20251209T124955Z
DESCRIPTION:NADAL A MOLLET
LAST-MODIFIED;VALUE=DATE-TIME:20251211T100017Z
URL:https://www.molletvalles.cat/ca/actualitat/agenda/nadal-dart
END:VEVENT
END:VCALENDAR
