BEGIN:VCALENDAR
VERSION:2.0
PRODID:-//Plone.org//NONSGML plone.app.event//EN
X-WR-TIMEZONE:Europe/Madrid
BEGIN:VEVENT
SUMMARY:Nit de música amb Canya d'Or. Ball de Gralles
DTSTART;TZID=Europe/Madrid;VALUE=DATE-TIME:20230916T223000
DTEND;TZID=Europe/Madrid;VALUE=DATE-TIME:20230916T233000
DTSTAMP;VALUE=DATE-TIME:20260423T123011Z
UID:907241efa0af442c9e5b9c898def17a1@www.molletvalles.cat
CATEGORIES:Música
CREATED;VALUE=DATE-TIME:20230908T095342Z
DESCRIPTION:FIRA D'ARTESANS 2023
LAST-MODIFIED;VALUE=DATE-TIME:20230908T100244Z
LOCATION:Plaça de l'Artesania
URL:https://www.molletvalles.cat/ca/actualitat/agenda/nit-de-musica-amb-ca
 nya-dor-ball-de-gralles
END:VEVENT
BEGIN:VTIMEZONE
TZID:Europe/Madrid
X-LIC-LOCATION:Europe/Madrid
BEGIN:DAYLIGHT
DTSTART;VALUE=DATE-TIME:20230326T030000
TZNAME:CEST
TZOFFSETFROM:+0100
TZOFFSETTO:+0200
END:DAYLIGHT
END:VTIMEZONE
END:VCALENDAR
