BEGIN:VCALENDAR
VERSION:2.0
PRODID:-//Plone.org//NONSGML plone.app.event//EN
X-WR-TIMEZONE:Europe/Madrid
BEGIN:VEVENT
SUMMARY:Ofrena floral amb motiu del 84è aniversari de la mort de Lluís C
 ompanys
DTSTART;TZID=Europe/Madrid;VALUE=DATE-TIME:20241015T180000
DTEND;TZID=Europe/Madrid;VALUE=DATE-TIME:20241015T190000
DTSTAMP;VALUE=DATE-TIME:20260421T160313Z
UID:4836870aa7a54100a88017362e1e0b69@www.molletvalles.cat
CATEGORIES:Actes de ciutat
CREATED;VALUE=DATE-TIME:20241010T092747Z
LAST-MODIFIED;VALUE=DATE-TIME:20241010T092919Z
LOCATION:Parc Lluís Companys
URL:https://www.molletvalles.cat/ca/actualitat/agenda/ofrena-floral-amb-mo
 tiu-del-84e-aniversari-de-la-mort-de-lluis-companys
END:VEVENT
BEGIN:VTIMEZONE
TZID:Europe/Madrid
X-LIC-LOCATION:Europe/Madrid
BEGIN:DAYLIGHT
DTSTART;VALUE=DATE-TIME:20240331T030000
TZNAME:CEST
TZOFFSETFROM:+0100
TZOFFSETTO:+0200
END:DAYLIGHT
END:VTIMEZONE
END:VCALENDAR
