BEGIN:VCALENDAR
VERSION:2.0
PRODID:-//Plone.org//NONSGML plone.app.event//EN
X-WR-TIMEZONE:Europe/Madrid
BEGIN:VEVENT
SUMMARY:Passatge del Terror - Iniciativa juvenil
DTSTART;VALUE=DATE:20231027
DTEND;VALUE=DATE:20231028
DTSTAMP;VALUE=DATE-TIME:20260423T122612Z
UID:766a1a632f604f2085037750e8b61443@www.molletvalles.cat
CATEGORIES:Juvenil
CREATED;VALUE=DATE-TIME:20230927T111514Z
DESCRIPTION:TARDOR JOVE 2023
LAST-MODIFIED;VALUE=DATE-TIME:20230928T074428Z
URL:https://www.molletvalles.cat/ca/actualitat/agenda/passatge-del-terror-
 iniciativa-juvenil
END:VEVENT
END:VCALENDAR
