BEGIN:VCALENDAR
VERSION:2.0
PRODID:-//Plone.org//NONSGML plone.app.event//EN
X-WR-TIMEZONE:Europe/Madrid
BEGIN:VEVENT
SUMMARY:Portes Obertes a l’Escola Municipal de Música i Dansa de Mollet
  del Vallès
DTSTART;TZID=Europe/Madrid;VALUE=DATE-TIME:20250508T180000
DTEND;TZID=Europe/Madrid;VALUE=DATE-TIME:20250508T190000
DTSTAMP;VALUE=DATE-TIME:20260425T140813Z
UID:675a377f60504ed6ab1fce4decc20b8f@www.molletvalles.cat
CATEGORIES:Actes diversos
CREATED;VALUE=DATE-TIME:20250410T071921Z
LAST-MODIFIED;VALUE=DATE-TIME:20250410T072101Z
LOCATION:(Castelao\, 2)
URL:https://www.molletvalles.cat/ca/actualitat/agenda/portes-obertes-a-l20
 19escola-municipal-de-musica-i-dansa-de-mollet-del-valles
END:VEVENT
BEGIN:VTIMEZONE
TZID:Europe/Madrid
X-LIC-LOCATION:Europe/Madrid
BEGIN:DAYLIGHT
DTSTART;VALUE=DATE-TIME:20250330T030000
TZNAME:CEST
TZOFFSETFROM:+0100
TZOFFSETTO:+0200
END:DAYLIGHT
END:VTIMEZONE
END:VCALENDAR
