BEGIN:VCALENDAR
VERSION:2.0
PRODID:-//Plone.org//NONSGML plone.app.event//EN
X-WR-TIMEZONE:Europe/Madrid
BEGIN:VEVENT
SUMMARY:Posa't les piles! (Magazin matinal  radiofònic\, especial 8 de ma
 rç)
DTSTART;TZID=Europe/Madrid;VALUE=DATE-TIME:20250307T091000
DTEND;TZID=Europe/Madrid;VALUE=DATE-TIME:20250307T101000
DTSTAMP;VALUE=DATE-TIME:20260425T140313Z
UID:2c081f731ff14a6ea3db3b5c4c00427c@www.molletvalles.cat
CATEGORIES:Actes diversos
CREATED;VALUE=DATE-TIME:20250225T133641Z
LAST-MODIFIED;VALUE=DATE-TIME:20250226T093557Z
LOCATION:Ràdio Mollet 96.3 FM
URL:https://www.molletvalles.cat/ca/actualitat/agenda/posat-les-piles-maga
 zin-matinal-radiofonic-especial-8-de-marc
END:VEVENT
BEGIN:VTIMEZONE
TZID:Europe/Madrid
X-LIC-LOCATION:Europe/Madrid
BEGIN:STANDARD
DTSTART;VALUE=DATE-TIME:20241027T020000
TZNAME:CET
TZOFFSETFROM:+0200
TZOFFSETTO:+0100
END:STANDARD
END:VTIMEZONE
END:VCALENDAR
