BEGIN:VCALENDAR
VERSION:2.0
PRODID:-//Plone.org//NONSGML plone.app.event//EN
X-WR-TIMEZONE:Europe/Madrid
BEGIN:VEVENT
SUMMARY:Potaje gratuït per als socis i amb preu popular per qui no ho sig
 ui
DTSTART;TZID=Europe/Madrid;VALUE=DATE-TIME:20230507T140000
DTEND;TZID=Europe/Madrid;VALUE=DATE-TIME:20230507T150000
DTSTAMP;VALUE=DATE-TIME:20260419T233038Z
UID:cb8551cc1e1d42c8bdf8cf5491580d09@www.molletvalles.cat
CATEGORIES:Festes populars
CREATED;VALUE=DATE-TIME:20230428T111849Z
DESCRIPTION:LA CRUZ DE MAYO
LAST-MODIFIED;VALUE=DATE-TIME:20230502T113937Z
URL:https://www.molletvalles.cat/ca/actualitat/agenda/potaje-gratuit-per-a
 ls-socis-i-amb-preu-popular-per-qui-no-ho-sigui
END:VEVENT
BEGIN:VTIMEZONE
TZID:Europe/Madrid
X-LIC-LOCATION:Europe/Madrid
BEGIN:DAYLIGHT
DTSTART;VALUE=DATE-TIME:20230326T030000
TZNAME:CEST
TZOFFSETFROM:+0100
TZOFFSETTO:+0200
END:DAYLIGHT
END:VTIMEZONE
END:VCALENDAR
