BEGIN:VCALENDAR
VERSION:2.0
PRODID:-//Plone.org//NONSGML plone.app.event//EN
X-WR-TIMEZONE:Europe/Madrid
BEGIN:VEVENT
SUMMARY:Presentació del cicle de xerrades de tardor\, i a continuació la
  Xerrada: L'humor com a eina per afrontar l'adversitat
DTSTART;TZID=Europe/Madrid;VALUE=DATE-TIME:20241021T180000
DTEND;TZID=Europe/Madrid;VALUE=DATE-TIME:20241021T190000
DTSTAMP;VALUE=DATE-TIME:20260421T135803Z
UID:8da966162e0f48f3a82f3889ec49cd13@www.molletvalles.cat
CATEGORIES:Xerrades
CREATED;VALUE=DATE-TIME:20240925T085806Z
LAST-MODIFIED;VALUE=DATE-TIME:20240925T113331Z
URL:https://www.molletvalles.cat/ca/actualitat/agenda/presentacio-del-cicl
 e-de-xerrades-de-tardor-i-a-continuacio-la-xerrada-lhumor-com-a-eina-per-a
 frontar-ladversitat
END:VEVENT
BEGIN:VTIMEZONE
TZID:Europe/Madrid
X-LIC-LOCATION:Europe/Madrid
BEGIN:DAYLIGHT
DTSTART;VALUE=DATE-TIME:20240331T030000
TZNAME:CEST
TZOFFSETFROM:+0100
TZOFFSETTO:+0200
END:DAYLIGHT
END:VTIMEZONE
END:VCALENDAR
