BEGIN:VCALENDAR
VERSION:2.0
PRODID:-//Plone.org//NONSGML plone.app.event//EN
X-WR-TIMEZONE:Europe/Madrid
BEGIN:VEVENT
SUMMARY:Presentació del llibre "Amb (con)sentiment"\, de Carmen Esteban\,
  amb il·lustracions de Júlia Quintana
DTSTART;TZID=Europe/Madrid;VALUE=DATE-TIME:20240309T123000
DTEND;TZID=Europe/Madrid;VALUE=DATE-TIME:20240309T133000
DTSTAMP;VALUE=DATE-TIME:20260419T144656Z
UID:5940f3d88ed7446ba7c62d92d59a6b25@www.molletvalles.cat
CATEGORIES:Xerrades,Infantil
CREATED;VALUE=DATE-TIME:20240305T080526Z
LAST-MODIFIED;VALUE=DATE-TIME:20240305T081259Z
LOCATION:Llibreria L'Illa
URL:https://www.molletvalles.cat/ca/actualitat/agenda/presentacio-del-llib
 re-amb-con-sentiment-de-carmen-esteban-amb-il-lustracions-de-julia-quintan
 a
END:VEVENT
BEGIN:VTIMEZONE
TZID:Europe/Madrid
X-LIC-LOCATION:Europe/Madrid
BEGIN:STANDARD
DTSTART;VALUE=DATE-TIME:20231029T020000
TZNAME:CET
TZOFFSETFROM:+0200
TZOFFSETTO:+0100
END:STANDARD
END:VTIMEZONE
END:VCALENDAR
