BEGIN:VCALENDAR
VERSION:2.0
PRODID:-//Plone.org//NONSGML plone.app.event//EN
X-WR-TIMEZONE:Europe/Madrid
BEGIN:VEVENT
SUMMARY:Presentació del llibre CONFETI\, d'en Jordi Puntí\, guanyador de
 l Premi Sant Jordi 2024
DTSTART;TZID=Europe/Madrid;VALUE=DATE-TIME:20240321T193000
DTEND;TZID=Europe/Madrid;VALUE=DATE-TIME:20240321T203000
DTSTAMP;VALUE=DATE-TIME:20260419T161638Z
UID:bff0c39d49bd4ae2a304548bc17d83ff@www.molletvalles.cat
CATEGORIES:Xerrades
CREATED;VALUE=DATE-TIME:20240318T133105Z
LAST-MODIFIED;VALUE=DATE-TIME:20240318T133724Z
LOCATION:Llibreria L'Illa
URL:https://www.molletvalles.cat/ca/actualitat/agenda/presentacio-del-llib
 re-confeti-den-jordi-punti-guanyador-del-premi-sant-jordi-2024
END:VEVENT
BEGIN:VTIMEZONE
TZID:Europe/Madrid
X-LIC-LOCATION:Europe/Madrid
BEGIN:STANDARD
DTSTART;VALUE=DATE-TIME:20231029T020000
TZNAME:CET
TZOFFSETFROM:+0200
TZOFFSETTO:+0100
END:STANDARD
END:VTIMEZONE
END:VCALENDAR
