BEGIN:VCALENDAR
VERSION:2.0
PRODID:-//Plone.org//NONSGML plone.app.event//EN
X-WR-TIMEZONE:Europe/Madrid
BEGIN:VEVENT
SUMMARY:Presentació del llibre "Juan Ramon Masoliver: edición y cultura 
 en la Barcelona de posguerra" de l'autora local Miriam Gàzquez
DTSTART;TZID=Europe/Madrid;VALUE=DATE-TIME:20241112T183000
DTEND;TZID=Europe/Madrid;VALUE=DATE-TIME:20241112T193000
DTSTAMP;VALUE=DATE-TIME:20260419T170309Z
UID:c3d6ffc5582e4345ae237d2ec30f9d3d@www.molletvalles.cat
CATEGORIES:Actes diversos
CREATED;VALUE=DATE-TIME:20241104T084233Z
LAST-MODIFIED;VALUE=DATE-TIME:20241107T092435Z
URL:https://www.molletvalles.cat/ca/actualitat/agenda/presentacio-del-llib
 re-juan-ramon-masoliver-edicion-y-cultura-en-la-barcelona-de-posguerra-de-
 lautora-local-miriam-gazquez
END:VEVENT
BEGIN:VTIMEZONE
TZID:Europe/Madrid
X-LIC-LOCATION:Europe/Madrid
BEGIN:STANDARD
DTSTART;VALUE=DATE-TIME:20241027T020000
TZNAME:CET
TZOFFSETFROM:+0200
TZOFFSETTO:+0100
END:STANDARD
END:VTIMEZONE
END:VCALENDAR
