BEGIN:VCALENDAR
VERSION:2.0
PRODID:-//Plone.org//NONSGML plone.app.event//EN
X-WR-TIMEZONE:Europe/Madrid
BEGIN:VEVENT
SUMMARY:Presentació de la revista Notes 39  i del Fons documental Ramon R
 os Castelló\, dipositat a l'Arxiu Històric de Mollet del Vallès\, que i
 nclou els pergamins medievals de can Mulà de Gallecs
DTSTART;TZID=Europe/Madrid;VALUE=DATE-TIME:20240122T123000
DTEND;TZID=Europe/Madrid;VALUE=DATE-TIME:20240122T133000
DTSTAMP;VALUE=DATE-TIME:20260421T162337Z
UID:2ebf94ed052047e09114bde876244656@www.molletvalles.cat
CATEGORIES:Xerrades
CREATED;VALUE=DATE-TIME:20240111T090050Z
DESCRIPTION:FESTA MAJOR D'HIVERN
LAST-MODIFIED;VALUE=DATE-TIME:20240111T090756Z
LOCATION:Sala Fiveller
URL:https://www.molletvalles.cat/ca/actualitat/agenda/presentacio-del-volu
 m-39-de-la-revista-notes-i-del-fons-documental-ramon-ros-castello-diposita
 t-a-larxiu-historic-de-mollet-del-valles-que-inclou-els-pergamins-medieval
 s-de-can-mula-de-gallecs
END:VEVENT
BEGIN:VTIMEZONE
TZID:Europe/Madrid
X-LIC-LOCATION:Europe/Madrid
BEGIN:STANDARD
DTSTART;VALUE=DATE-TIME:20231029T020000
TZNAME:CET
TZOFFSETFROM:+0200
TZOFFSETTO:+0100
END:STANDARD
END:VTIMEZONE
END:VCALENDAR
