BEGIN:VCALENDAR
VERSION:2.0
PRODID:-//Plone.org//NONSGML plone.app.event//EN
X-WR-TIMEZONE:Europe/Madrid
BEGIN:VEVENT
SUMMARY:Presentació del volum 40 de la revista Notes.  Conferència "La v
 ida als masos de Mollet i Gallecs (segles XIII-XVI) a partir dels pergamin
 s del Fons Ramon Ros Castelló"
DTSTART;TZID=Europe/Madrid;VALUE=DATE-TIME:20250122T123000
DTEND;TZID=Europe/Madrid;VALUE=DATE-TIME:20250122T133000
DTSTAMP;VALUE=DATE-TIME:20260419T170309Z
UID:96c3d856992847bfaeb8f8281084e67f@www.molletvalles.cat
CATEGORIES:Actes diversos,Xerrades
CREATED;VALUE=DATE-TIME:20250117T100841Z
DESCRIPTION:FESTA MAJOR D'HIVERN
LAST-MODIFIED;VALUE=DATE-TIME:20250120T073114Z
LOCATION:Sala Fiveller
URL:https://www.molletvalles.cat/ca/actualitat/agenda/presentacio-del-volu
 m-40-de-la-revista-notes-conferencia-la-vida-als-masos-de-mollet-i-gallecs
 -segles-xiii-xvi-a-partir-dels-pergamins-del-fons-ramon-ros-castello
END:VEVENT
BEGIN:VTIMEZONE
TZID:Europe/Madrid
X-LIC-LOCATION:Europe/Madrid
BEGIN:STANDARD
DTSTART;VALUE=DATE-TIME:20241027T020000
TZNAME:CET
TZOFFSETFROM:+0200
TZOFFSETTO:+0100
END:STANDARD
END:VTIMEZONE
END:VCALENDAR
