BEGIN:VCALENDAR
VERSION:2.0
PRODID:-//Plone.org//NONSGML plone.app.event//EN
X-WR-TIMEZONE:Europe/Madrid
BEGIN:VEVENT
SUMMARY:Primavera Republicana. Exposició "Roig i Violeta\, homenatge a le
 s dones lluitadores"
DTSTART;VALUE=DATE:20230414
DTEND;VALUE=DATE:20230417
DTSTAMP;VALUE=DATE-TIME:20260421T160418Z
UID:b328317abb0f414ab726d2502fda6ea2@www.molletvalles.cat
CATEGORIES:Exposicions
CREATED;VALUE=DATE-TIME:20230411T073041Z
LAST-MODIFIED;VALUE=DATE-TIME:20230411T082728Z
LOCATION:Sala Fiveller
URL:https://www.molletvalles.cat/ca/actualitat/agenda/primavera-republican
 a-exposicio-roig-i-violeta-homenatge-a-les-dones-lluitadores
END:VEVENT
END:VCALENDAR
