BEGIN:VCALENDAR
VERSION:2.0
PRODID:-//Plone.org//NONSGML plone.app.event//EN
X-WR-TIMEZONE:Europe/Madrid
BEGIN:VEVENT
SUMMARY:Primavera Republicana. Inauguració exposició "Roig i Violeta\, h
 omenatge a les dones lluitadores"
DTSTART;TZID=Europe/Madrid;VALUE=DATE-TIME:20230414T190000
DTEND;TZID=Europe/Madrid;VALUE=DATE-TIME:20230414T200000
DTSTAMP;VALUE=DATE-TIME:20260425T140921Z
UID:85bcadfdb60d45c992900feb3b315432@www.molletvalles.cat
CATEGORIES:Exposicions
CREATED;VALUE=DATE-TIME:20230411T072417Z
LAST-MODIFIED;VALUE=DATE-TIME:20230411T072434Z
LOCATION:Sala Fiveller
URL:https://www.molletvalles.cat/ca/actualitat/agenda/primavera-republican
 a-inauguracio-exposicio-roig-i-violeta-homenatge-a-les-dones-lluitadores
END:VEVENT
BEGIN:VTIMEZONE
TZID:Europe/Madrid
X-LIC-LOCATION:Europe/Madrid
BEGIN:DAYLIGHT
DTSTART;VALUE=DATE-TIME:20230326T030000
TZNAME:CEST
TZOFFSETFROM:+0100
TZOFFSETTO:+0200
END:DAYLIGHT
END:VTIMEZONE
END:VCALENDAR
