BEGIN:VCALENDAR
VERSION:2.0
PRODID:-//Plone.org//NONSGML plone.app.event//EN
X-WR-TIMEZONE:Europe/Madrid
BEGIN:VEVENT
SUMMARY:Realització i emissió en directe del programa de Ràdio Mollet "
 La nostra gent gran"
DTSTART;VALUE=DATE:20230517
DTEND;VALUE=DATE:20230518
DTSTAMP;VALUE=DATE-TIME:20260421T173727Z
UID:e373cbc0c89c4409bb9f5c593be609f9@www.molletvalles.cat
CATEGORIES:Gent Gran
CREATED;VALUE=DATE-TIME:20230503T131319Z
DESCRIPTION:PER MOLTS ANYS 2023
LAST-MODIFIED;VALUE=DATE-TIME:20230504T113835Z
LOCATION:Ràdio Mollet
URL:https://www.molletvalles.cat/ca/actualitat/agenda/realitzacio-i-emissi
 o-en-directe-del-programa-de-radio-mollet-la-nostra-gent-gran
END:VEVENT
END:VCALENDAR
