BEGIN:VCALENDAR
VERSION:2.0
PRODID:-//Plone.org//NONSGML plone.app.event//EN
X-WR-TIMEZONE:Europe/Madrid
BEGIN:VEVENT
SUMMARY:Representació del musical "Els Miserables" a càrrec dels alumnes
  de l'Institut Aiguaviva i La Tramolla
DTSTART;TZID=Europe/Madrid;VALUE=DATE-TIME:20230701T180000
DTEND;TZID=Europe/Madrid;VALUE=DATE-TIME:20230701T190000
DTSTAMP;VALUE=DATE-TIME:20260419T144657Z
UID:5052d263491e474aac5082f91a427585@www.molletvalles.cat
CATEGORIES:Arts escèniques
CREATED;VALUE=DATE-TIME:20230622T121620Z
LAST-MODIFIED;VALUE=DATE-TIME:20230629T094055Z
URL:https://www.molletvalles.cat/ca/actualitat/agenda/representacio-del-mu
 sical-els-miserables-a-carrec-dels-alumnes-de-linstitut-aiguaviva-i-la-tra
 molla-1
END:VEVENT
BEGIN:VTIMEZONE
TZID:Europe/Madrid
X-LIC-LOCATION:Europe/Madrid
BEGIN:DAYLIGHT
DTSTART;VALUE=DATE-TIME:20230326T030000
TZNAME:CEST
TZOFFSETFROM:+0100
TZOFFSETTO:+0200
END:DAYLIGHT
END:VTIMEZONE
END:VCALENDAR
