BEGIN:VCALENDAR
VERSION:2.0
PRODID:-//Plone.org//NONSGML plone.app.event//EN
X-WR-TIMEZONE:Europe/Madrid
BEGIN:VEVENT
SUMMARY:Ressonàncies femenines: Actuació de Letícia Sales & Artur Canad
 ell
DTSTART;TZID=Europe/Madrid;VALUE=DATE-TIME:20260213T190000
DTEND;TZID=Europe/Madrid;VALUE=DATE-TIME:20260213T200000
DTSTAMP;VALUE=DATE-TIME:20260421T175214Z
UID:617fae985cc84c878f2f4c4a3b2b81f3@www.molletvalles.cat
CATEGORIES:Música
CREATED;VALUE=DATE-TIME:20260203T102938Z
LAST-MODIFIED;VALUE=DATE-TIME:20260203T105440Z
URL:https://www.molletvalles.cat/ca/actualitat/agenda/ressonancies-femenin
 es-actuacio-de-leticia-sales-artur-canadell
END:VEVENT
BEGIN:VTIMEZONE
TZID:Europe/Madrid
X-LIC-LOCATION:Europe/Madrid
BEGIN:STANDARD
DTSTART;VALUE=DATE-TIME:20251026T020000
TZNAME:CET
TZOFFSETFROM:+0200
TZOFFSETTO:+0100
END:STANDARD
END:VTIMEZONE
END:VCALENDAR
